BEGIN:VCALENDAR
VERSION:2.0
PRODID:-//The Log - ECPv6.15.17.1//NONSGML v1.0//EN
CALSCALE:GREGORIAN
METHOD:PUBLISH
X-WR-CALNAME:The Log
X-ORIGINAL-URL:https://thelog.com
X-WR-CALDESC:Events for The Log
REFRESH-INTERVAL;VALUE=DURATION:PT1H
X-Robots-Tag:noindex
X-PUBLISHED-TTL:PT1H
BEGIN:VTIMEZONE
TZID:America/Los_Angeles
BEGIN:DAYLIGHT
TZOFFSETFROM:-0800
TZOFFSETTO:-0700
TZNAME:PDT
DTSTART:20250309T100000
END:DAYLIGHT
BEGIN:STANDARD
TZOFFSETFROM:-0700
TZOFFSETTO:-0800
TZNAME:PST
DTSTART:20251102T090000
END:STANDARD
BEGIN:DAYLIGHT
TZOFFSETFROM:-0800
TZOFFSETTO:-0700
TZNAME:PDT
DTSTART:20260308T100000
END:DAYLIGHT
BEGIN:STANDARD
TZOFFSETFROM:-0700
TZOFFSETTO:-0800
TZNAME:PST
DTSTART:20261101T090000
END:STANDARD
BEGIN:DAYLIGHT
TZOFFSETFROM:-0800
TZOFFSETTO:-0700
TZNAME:PDT
DTSTART:20270314T100000
END:DAYLIGHT
BEGIN:STANDARD
TZOFFSETFROM:-0700
TZOFFSETTO:-0800
TZNAME:PST
DTSTART:20271107T090000
END:STANDARD
END:VTIMEZONE
BEGIN:VEVENT
DTSTART;VALUE=DATE:20260425
DTEND;VALUE=DATE:20260427
DTSTAMP:20260425T032148
CREATED:20260422T235042Z
LAST-MODIFIED:20260422T235042Z
UID:88026-1777075200-1777247999@thelog.com
SUMMARY:Earth Day Teen Climate Fest
DESCRIPTION:Celebrate the future of sustainability at the Aquarium of the Pacific’s Earth Day Teen Climate Fest\, an event created and inspired by young leaders. The festival will feature interactive displays\, hands-on activities\, and presentations centered around sustainable art\, highlighting how individuals can make a positive impact in their communities and for the planet. Through creative expression\, the event emphasizes the importance of environmental awareness and preservation. This event is included with general Aquarium admission and is designed for all ages. For more information\, visit visitlongbeach.com/events/earth-day-teen-climate-fest/.
URL:https://thelog.com/event/earth-day-teen-climate-fest/
LOCATION:Aquarium of the Pacific\, Long Beach
CATEGORIES:Calendar of Events
ATTACH;FMTTYPE=image/jpeg:https://the-log.s3.us-west-1.amazonaws.com/wp-content/uploads/2026/04/22154907/pexels-mikhail-nilov-8542538.jpg
END:VEVENT
BEGIN:VEVENT
DTSTART;TZID=America/Los_Angeles:20260425T130000
DTEND;TZID=America/Los_Angeles:20260425T160000
DTSTAMP:20260425T032148
CREATED:20260422T235344Z
LAST-MODIFIED:20260422T235344Z
UID:88030-1777122000-1777132800@thelog.com
SUMMARY:Earth Day Village Cleanup
DESCRIPTION:Celebrate Earth Day seaside with a casual\, family-friendly afternoon at Ventura Harbor Village focused on protecting local oceans and enjoying the harbor’s natural beauty. Participants can stop by any time between 1:00 and 4:00 p.m. to take part in a self-led community cleanup\, helping remove debris and support marine life conservation. Buckets and gloves will be provided while supplies last\, making it easy for visitors of all ages to get involved. Participants who complete the cleanup may receive giveaways while supplies last\, including a free kids scoop coupon for the first 75 participants who turn in a full bucket\, a Ventura Harbor sticker for those with a reusable water bottle\, and entry into a Seaside Vacay Giveaway. Visit venturaharborvillage.com/event/earth-day-village-cleanup/ for more details.
URL:https://thelog.com/event/earth-day-village-cleanup/
LOCATION:Ventura Harbor Village Visitor Booth
CATEGORIES:Calendar of Events
ATTACH;FMTTYPE=image/jpeg:https://the-log.s3.us-west-1.amazonaws.com/wp-content/uploads/2026/04/22154904/pexels-pixabay-41953.jpg
END:VEVENT
END:VCALENDAR